BEGIN:VCALENDAR
VERSION:2.0
PRODID:SchoolNow
CALSCALE:GREGORIAN
BEGIN:VEVENT
UID:7e78982e-a582-11f0-b23f-0a58a9feac02
DTSTAMP:20251216T215034Z
SUMMARY:Michigan Center 11th Annual Fall Craft Show
URL;VALUE=URI:https://www.mccardinals.org/kes/calendar/8710663/michigan-cen
 ter-11th-annual-fall-craft-show
DTSTART:20251102T020000Z
DTEND:20251102T080000Z
END:VEVENT
END:VCALENDAR
