BEGIN:VCALENDAR
VERSION:2.0
PRODID:SchoolNow
CALSCALE:GREGORIAN
BEGIN:VEVENT
UID:3fa0d356-aa4a-11f0-87b3-0e50ce71ff75
DTSTAMP:20251216T215034Z
SUMMARY:Community Dinner in the Furman Gym & Cafeteria
URL;VALUE=URI:https://www.mccardinals.org/kes/calendar/8726304/community-di
 nner-in-the-furman-gym-cafeteria
DTSTART:20251211T223000Z
DTEND:20251213T000000Z
END:VEVENT
END:VCALENDAR
