BEGIN:VCALENDAR
VERSION:2.0
PRODID:SchoolNow
CALSCALE:GREGORIAN
BEGIN:VEVENT
UID:402179f0-aab0-11f0-9f61-0affd6050f69
DTSTAMP:20251216T215034Z
SUMMARY:STEM Night in Ray Haynes Gym (HS)
URL;VALUE=URI:https://www.mccardinals.org/kes/calendar/8727432/stem-night-i
 n-ray-haynes-gym-hs
DTSTART:20251030T220000Z
DTEND:20251031T000000Z
END:VEVENT
END:VCALENDAR
