BEGIN:VCALENDAR
VERSION:2.0
PRODID:SchoolNow
CALSCALE:GREGORIAN
BEGIN:VEVENT
UID:8713feba-aec4-11f0-b2de-0a58a9feac02
DTSTAMP:20251216T215034Z
SUMMARY:MC Mania Clothing Order Forms Due
URL;VALUE=URI:https://www.mccardinals.org/kes/calendar/8740877/mc-mania-clo
 thing-order-forms-due
DTSTART;VALUE=DATE:20251027
DTEND;VALUE=DATE:20251028
END:VEVENT
END:VCALENDAR
