BEGIN:VCALENDAR
VERSION:2.0
PRODID:SchoolNow
CALSCALE:GREGORIAN
BEGIN:VEVENT
UID:871401b2-aec4-11f0-9ff9-0a58a9feac02
DTSTAMP:20251216T215034Z
SUMMARY:Parent Survey Deadline
URL;VALUE=URI:https://www.mccardinals.org/kes/calendar/8740878/parent-surve
 y-deadline
DTSTART;VALUE=DATE:20251028
DTEND;VALUE=DATE:20251029
END:VEVENT
END:VCALENDAR
