BEGIN:VCALENDAR
VERSION:2.0
PRODID:SchoolNow
CALSCALE:GREGORIAN
BEGIN:VEVENT
UID:82a05e1a-af90-11f0-99ad-02d52f92e9c5
DTSTAMP:20251216T215034Z
SUMMARY:Keicher Disney Musical @ MCHS Auditorium
URL;VALUE=URI:https://www.mccardinals.org/kes/calendar/8743816/keicher-disn
 ey-musical-mchs-auditorium
DTSTART;VALUE=DATE:20260321
DTEND;VALUE=DATE:20260322
END:VEVENT
END:VCALENDAR
