BEGIN:VCALENDAR
VERSION:2.0
PRODID:SchoolNow
CALSCALE:GREGORIAN
BEGIN:VEVENT
UID:82a05f5a-af90-11f0-862a-02d52f92e9c5
DTSTAMP:20251216T215034Z
SUMMARY:Keicher Disney Musical Practice - MCHS Auditorium
URL;VALUE=URI:https://www.mccardinals.org/kes/calendar/8743817/keicher-disn
 ey-musical-practice-mchs-auditorium
DTSTART:20260316T193000Z
DTEND:20260320T000000Z
END:VEVENT
END:VCALENDAR
