BEGIN:VCALENDAR
VERSION:2.0
PRODID:SchoolNow
CALSCALE:GREGORIAN
BEGIN:VEVENT
UID:8c8f2246-b029-11f0-97ae-0a58a9feac02
DTSTAMP:20251216T215034Z
SUMMARY:Keicher 4th annual Vocabulary Dress Up Day
URL;VALUE=URI:https://www.mccardinals.org/kes/calendar/8745269/keicher-4th-
 annual-vocabulary-dress-up-day
DTSTART;VALUE=DATE:20251031
DTEND;VALUE=DATE:20251101
END:VEVENT
END:VCALENDAR
