BEGIN:VCALENDAR
VERSION:2.0
PRODID:SchoolNow
CALSCALE:GREGORIAN
BEGIN:VEVENT
UID:473d3e1a-b38c-11f0-8b7f-0e8747e5e285
DTSTAMP:20251216T215034Z
SUMMARY:Leadership Can & Bottle Drive 8-11am
URL;VALUE=URI:https://www.mccardinals.org/kes/calendar/8755772/leadership-c
 an-bottle-drive-8-11am
DTSTART:20251029T120000Z
DTEND:20251029T150000Z
END:VEVENT
END:VCALENDAR
