BEGIN:VCALENDAR
VERSION:2.0
PRODID:SchoolNow
CALSCALE:GREGORIAN
BEGIN:VEVENT
UID:18ec11de-b9b9-11f0-a891-0a58a9feac02
DTSTAMP:20251216T215034Z
SUMMARY:Keicher Picture Retakes
URL;VALUE=URI:https://www.mccardinals.org/kes/calendar/8777362/keicher-pict
 ure-retakes
DTSTART;VALUE=DATE:20251120
DTEND;VALUE=DATE:20251121
END:VEVENT
END:VCALENDAR
