BEGIN:VCALENDAR
VERSION:2.0
PRODID:SchoolNow
CALSCALE:GREGORIAN
BEGIN:VEVENT
UID:18ec1512-b9b9-11f0-9705-0a58a9feac02
DTSTAMP:20251216T215034Z
SUMMARY:Keicher Holiday Lock in 15 per student
URL;VALUE=URI:https://www.mccardinals.org/kes/calendar/8777363/keicher-holi
 day-lock-in-15-per-student
DTSTART:20251212T203000Z
DTEND:20251212T230000Z
END:VEVENT
END:VCALENDAR
