BEGIN:VCALENDAR
VERSION:2.0
PRODID:SchoolNow
CALSCALE:GREGORIAN
BEGIN:VEVENT
UID:18ec1666-b9b9-11f0-997b-0a58a9feac02
DTSTAMP:20251216T215034Z
SUMMARY:Haney & Cryderman classes to Capitol
URL;VALUE=URI:https://www.mccardinals.org/kes/calendar/8777364/haney-cryder
 man-classes-to-capitol
DTSTART;VALUE=DATE:20251217
DTEND;VALUE=DATE:20251218
END:VEVENT
END:VCALENDAR
