BEGIN:VCALENDAR
VERSION:2.0
PRODID:SchoolNow
CALSCALE:GREGORIAN
BEGIN:VEVENT
UID:18ec17a6-b9b9-11f0-a36d-0a58a9feac02
DTSTAMP:20251216T215034Z
SUMMARY:Top Turkey Food Drive Begins
URL;VALUE=URI:https://www.mccardinals.org/kes/calendar/8777365/top-turkey-f
 ood-drive-begins
DTSTART;VALUE=DATE:20251110
DTEND;VALUE=DATE:20251111
END:VEVENT
END:VCALENDAR
