BEGIN:VCALENDAR
VERSION:2.0
PRODID:SchoolNow
CALSCALE:GREGORIAN
BEGIN:VEVENT
UID:18ec18a0-b9b9-11f0-80be-0a58a9feac02
DTSTAMP:20251216T215034Z
SUMMARY:Keicher Report cards go home
URL;VALUE=URI:https://www.mccardinals.org/kes/calendar/8777366/keicher-repo
 rt-cards-go-home
DTSTART;VALUE=DATE:20251121
DTEND;VALUE=DATE:20251122
END:VEVENT
END:VCALENDAR
