BEGIN:VCALENDAR
VERSION:2.0
PRODID:SchoolNow
CALSCALE:GREGORIAN
BEGIN:VEVENT
UID:18ec19e0-b9b9-11f0-92f8-0a58a9feac02
DTSTAMP:20251216T215034Z
SUMMARY:Keicher 1st trimester reward
URL;VALUE=URI:https://www.mccardinals.org/kes/calendar/8777367/keicher-1st-
 trimester-reward
DTSTART;VALUE=DATE:20251125
DTEND;VALUE=DATE:20251126
END:VEVENT
END:VCALENDAR
