BEGIN:VCALENDAR
VERSION:2.0
PRODID:SchoolNow
CALSCALE:GREGORIAN
BEGIN:VEVENT
UID:18ec1bfc-b9b9-11f0-a9df-0a58a9feac02
DTSTAMP:20251216T215034Z
SUMMARY:Lammon & Flippin classes to Capitol
URL;VALUE=URI:https://www.mccardinals.org/kes/calendar/8777369/lammon-flipp
 in-classes-to-capitol
DTSTART;VALUE=DATE:20251201
DTEND;VALUE=DATE:20251202
END:VEVENT
END:VCALENDAR
