BEGIN:VCALENDAR
VERSION:2.0
PRODID:SchoolNow
CALSCALE:GREGORIAN
BEGIN:VEVENT
UID:18ec1d28-b9b9-11f0-a9f8-0a58a9feac02
DTSTAMP:20251216T215034Z
SUMMARY:Keicher End of Trimester 1
URL;VALUE=URI:https://www.mccardinals.org/kes/calendar/8777370/keicher-end-
 of-trimester-1
DTSTART;VALUE=DATE:20251114
DTEND;VALUE=DATE:20251115
END:VEVENT
END:VCALENDAR
