BEGIN:VCALENDAR
VERSION:2.0
PRODID:SchoolNow
CALSCALE:GREGORIAN
BEGIN:VEVENT
UID:18ec1e5e-b9b9-11f0-b29a-0a58a9feac02
DTSTAMP:20251216T215034Z
SUMMARY:Keicher Popcorn Day $1 per bag
URL;VALUE=URI:https://www.mccardinals.org/kes/calendar/8777371/keicher-popc
 orn-day-1-per-bag
DTSTART;VALUE=DATE:20251114
DTEND;VALUE=DATE:20251115
END:VEVENT
END:VCALENDAR
