BEGIN:VCALENDAR
VERSION:2.0
PRODID:SchoolNow
CALSCALE:GREGORIAN
BEGIN:VEVENT
UID:18ec1f58-b9b9-11f0-bb51-0a58a9feac02
DTSTAMP:20251216T215034Z
SUMMARY:Keicher Popcorn day $1 per bag
URL;VALUE=URI:https://www.mccardinals.org/kes/calendar/8777372/keicher-popc
 orn-day-1-per-bag
DTSTART;VALUE=DATE:20251205
DTEND;VALUE=DATE:20251206
END:VEVENT
END:VCALENDAR
