BEGIN:VCALENDAR
VERSION:2.0
PRODID:SchoolNow
CALSCALE:GREGORIAN
BEGIN:VEVENT
UID:18ec216a-b9b9-11f0-b70e-0a58a9feac02
DTSTAMP:20251216T215034Z
SUMMARY:Top Turkey Food Drive Ends
URL;VALUE=URI:https://www.mccardinals.org/kes/calendar/8777373/top-turkey-f
 ood-drive-ends
DTSTART;VALUE=DATE:20251121
DTEND;VALUE=DATE:20251122
END:VEVENT
END:VCALENDAR
