BEGIN:VCALENDAR
VERSION:2.0
PRODID:SchoolNow
CALSCALE:GREGORIAN
BEGIN:VEVENT
UID:18ec23f4-b9b9-11f0-9eff-0a58a9feac02
DTSTAMP:20251216T215035Z
SUMMARY:Keicher Santa Secret Shop
URL;VALUE=URI:https://www.mccardinals.org/kes/calendar/8777375/keicher-sant
 a-secret-shop
DTSTART;VALUE=DATE:20251209
DTEND;VALUE=DATE:20251210
END:VEVENT
END:VCALENDAR
