BEGIN:VCALENDAR
VERSION:2.0
PRODID:SchoolNow
CALSCALE:GREGORIAN
BEGIN:VEVENT
UID:0038a4dc-bb84-11f0-ae73-0affdb8bd153
DTSTAMP:20251216T215034Z
SUMMARY:PTO Meeting  - Arnold Elementary
URL;VALUE=URI:https://www.mccardinals.org/kes/calendar/8782263/pto-meeting-
 arnold-elementary
DTSTART:20270706T220000Z
DTEND:20270707T000000Z
END:VEVENT
END:VCALENDAR
