BEGIN:VCALENDAR
VERSION:2.0
PRODID:SchoolNow
CALSCALE:GREGORIAN
BEGIN:VEVENT
UID:ca0bce0a-bfe5-11f0-b08d-0afff814a3b7
DTSTAMP:20251216T215034Z
SUMMARY:Youth Wrestling Thanksgiving in HS Cafeteria
URL;VALUE=URI:https://www.mccardinals.org/kes/calendar/8791820/youth-wrestl
 ing-thanksgiving-in-hs-cafeteria
DTSTART:20251121T220000Z
DTEND:20251122T010000Z
END:VEVENT
END:VCALENDAR
