BEGIN:VCALENDAR
VERSION:2.0
PRODID:SchoolNow
CALSCALE:GREGORIAN
BEGIN:VEVENT
UID:8b172b82-c4ad-11f0-b24c-0a58a9feac02
DTSTAMP:20251216T215034Z
SUMMARY:Food Distribution Event - Michigan Center High School Circle Drive
URL;VALUE=URI:https://www.mccardinals.org/kes/calendar/8802357/food-distrib
 ution-event-michigan-center-high-school-circle-drive
DTSTART:20251123T160000Z
DTEND:20251123T180000Z
END:VEVENT
END:VCALENDAR
