BEGIN:VCALENDAR
VERSION:2.0
PRODID:SchoolNow
CALSCALE:GREGORIAN
BEGIN:VEVENT
UID:46d8e340-ca41-11f0-a3f0-0afffc8cd0f9
DTSTAMP:20251216T215034Z
SUMMARY:Keicher CREW breakfast for November honorees
URL;VALUE=URI:https://www.mccardinals.org/kes/calendar/8809899/keicher-crew
 -breakfast-for-november-honorees
DTSTART;VALUE=DATE:20251209
DTEND;VALUE=DATE:20251210
END:VEVENT
END:VCALENDAR
