BEGIN:VCALENDAR
VERSION:2.0
PRODID:SchoolNow
CALSCALE:GREGORIAN
BEGIN:VEVENT
UID:46d8e728-ca41-11f0-a731-0afffc8cd0f9
DTSTAMP:20251216T215034Z
SUMMARY:Kids on Block for 4th graders
URL;VALUE=URI:https://www.mccardinals.org/kes/calendar/8809900/kids-on-bloc
 k-for-4th-graders
DTSTART;VALUE=DATE:20251216
DTEND;VALUE=DATE:20251217
END:VEVENT
END:VCALENDAR
