BEGIN:VCALENDAR
VERSION:2.0
PRODID:SchoolNow
CALSCALE:GREGORIAN
BEGIN:VEVENT
UID:46d8e98a-ca41-11f0-a543-0afffc8cd0f9
DTSTAMP:20251216T215034Z
SUMMARY:Keicher Holiday Literacy Fest
URL;VALUE=URI:https://www.mccardinals.org/kes/calendar/8809901/keicher-holi
 day-literacy-fest
DTSTART:20251202T124500Z
DTEND:20251202T131000Z
END:VEVENT
END:VCALENDAR
