BEGIN:VCALENDAR
VERSION:2.0
PRODID:SchoolNow
CALSCALE:GREGORIAN
BEGIN:VEVENT
UID:46d8eb10-ca41-11f0-8042-0afffc8cd0f9
DTSTAMP:20251216T215034Z
SUMMARY:Keicher Book Fair
URL;VALUE=URI:https://www.mccardinals.org/kes/calendar/8809902/keicher-book
 -fair
DTSTART;VALUE=DATE:20251202
DTEND;VALUE=DATE:20251206
END:VEVENT
END:VCALENDAR
