BEGIN:VCALENDAR
VERSION:2.0
PRODID:SchoolNow
CALSCALE:GREGORIAN
BEGIN:VEVENT
UID:46d8edea-ca41-11f0-98c9-0afffc8cd0f9
DTSTAMP:20251216T215034Z
SUMMARY:Keicher Literacy Fest
URL;VALUE=URI:https://www.mccardinals.org/kes/calendar/8809903/keicher-lite
 racy-fest
DTSTART:20251202T200000Z
DTEND:20251202T210000Z
END:VEVENT
END:VCALENDAR
